Workbook
Name \M: #REF!
Name \M: #REF!
Name \M: #REF!
Name ___bas1: [1]Output!$A$1:$I$49
Name ___bas2: [1]Output!$A$1:$H$46
Name ___EXP2: [2]Exp!#REF!
Name ___MCV1: [3]Main!$E$64:$AH$64
Name ___prt1: #N/A
Name ___prt2: #N/A
Name ___prt3: #N/A
Name ___prt4: #N/A
Name ___prt5: #N/A
Name ___prt6: #N/A
Name ___prt7: #N/A
Name ___prt8: #N/A
Name ___RED22: [4]red26!$B$122:$F$143
Name ___RED23: [4]red34!$C$1:$M$52
Name ___xr2: [5]CIRRs!#REF!
Name ___xr96: [5]CIRRs!#REF!
Name ___YR0110: [2]Imp:Trade!$O$9:$R$464
Name ___YR89: [2]Imp:Trade!$C$9:$C$464
Name ___YR90: [2]Imp:Trade!$D$9:$D$464
Name ___YR91: [2]Imp:Trade!$E$9:$E$464
Name ___YR92: [2]Imp:Trade!$F$9:$F$464
Name ___YR93: [2]Imp:Trade!$G$9:$G$464
Name ___YR94: [2]Imp:Trade!$H$9:$H$464
Name ___YR95: [2]Imp:Trade!$I$9:$I$464
Name __bas1: [1]Output!$A$1:$I$49
Name __bas2: [1]Output!$A$1:$H$46
Name __EXP2: [2]Exp!#REF!
Name __MCV1: [3]Main!$E$64:$AH$64
Name __prt1: #N/A
Name __prt2: #N/A
Name __prt3: #N/A
Name __prt4: #N/A
Name __prt5: #N/A
Name __prt6: #N/A
Name __prt7: #N/A
Name __prt8: #N/A
Name __RED22: [4]red26!$B$122:$F$143
Name __RED23: [4]red34!$C$1:$M$52
Name __RES2: [17]RES!#REF!
Name __TAB1: #REF!
Name __TAB10: #REF!
Name __TAB12: #REF!
Name __Tab19: #REF!
Name __TAB2: #REF!
Name __Tab20: #REF!
Name __Tab21: #REF!
Name __Tab22: #REF!
Name __Tab23: #REF!
Name __Tab24: #REF!
Name __Tab26: #REF!
Name __Tab27: #REF!
Name __Tab28: #REF!
Name __Tab29: #REF!
Name __TAB3: #REF!
Name __Tab30: #REF!
Name __Tab31: #REF!
Name __Tab32: #REF!

Sheet Index
B2: Statement of Central Government Operations
B4: The Government Finance Statistics is compiled based on the International Monetary Fund's (IMF) Government Finance Statistics Manual 2014 (GFSM 2014) . The GFS manual is part of a series of international guidelines on statistical methodologies that have been issued by the International Monetary Fund to support macroeconomic analysis.
B9: Table 1.1a contains annual GFS series from 2008 to the most recent data available. All figures are in Solomon Islands Dollar (SBD in millions). This compilation does include Balance of Payment Grants (BOP) from 2020 - 2025.
B13: Table 1.1b contains annual GFS series from 2008 to the most recent data available. All figures are in Solomon Islands Dollar (SBD in millions). This compilation exclude Balance of Payment Grants (BOP).
B17: Table 1.2a contains quaterly GFS series from 2008 to the most recent data available. All figures are in Solomon Islands Dollar (SBD in millions). This compilation include Balance of Payment Grants (BOP)
B21: Table 1.2b contains quaterly GFS series from 2008 to the most recent data available. All figures are in Solomon Islands Dollar (SBD in millions). This compilation exclude Balance of Payment Grants (BOP)
B25: Last updated: 15 June 2026

Sheet Tab1.1a
E3: Government Finance Statistics: Central Government
D4: Statements of Government Operations (SBD '000)
E5: 2008 | F5: 2009 | G5: 2010 | H5: 2011 | I5: 2012 | J5: 2013 | K5: 2014 | L5: 2015 | M5: 2016 | N5: 2017 | O5: 2018 | P5: 2019 | Q5: 2020 | R5: 2021 | S5: 2022 | T5: 2023 | U5: 2024 | V5: 2025
C6: 1 | D6: Total Revenue | E6: 1565.3164 | F6: 1610.8614 | G6: 2046.1449 | H6: 2668.486 | I6: 2964.0717 | J6: 3313.715 | K6: 3284.2314 | L6: 3629.1019 | M6: 3377.8836 | N6: 3796.6277 | O6: 4068.1812 | P6: 3632.6204 | Q6: 3800.1121 | R6: 3707.7087 | S6: 3557.4378 | T6: =SUM(T7)+SUM(T12)+SUM(T13) -> 5038.9881 | U6: =SUM(U7)+SUM(U12)+SUM(U13) -> 4980.0425 | V6: =SUM(V7)+SUM(V12)+SUM(V13) -> 4245.6247
D7: 1.1 Tax | E7: 1323.8508 | F7: 1360.7098 | G7: 1684.6493 | H7: 2279.1015 | I7: 2685.4082 | J7: 2709.4561 | K7: 2624.9228 | L7: 2657.4388 | M7: 2745.9079 | N7: 3043.9226 | O7: 3279.5571 | P7: 2942.2022 | Q7: 2656.0768 | R7: 2641.3568 | S7: 2640.456 | T7: =SUM(T8)+SUM(T10)+SUM(T11) -> 2900.653 | U7: =SUM(U8)+SUM(U10)+SUM(U11) -> 3117.1622 | V7: =SUM(V8)+SUM(V10)+SUM(V11) -> 3645.9315
D8: 1.1.1 Taxes on income, profits, and capital gains | E8: 449.25114 | F8: 446.61535 | G8: 528.97514 | H8: 718.39844 | I8: 861.60033 | J8: 958.78264 | K8: 873.98305 | L8: 948.30566 | M8: 945.52926 | N8: 1039.0905 | O8: 1037.5126 | P8: 1006.1027 | Q8: 918.35687 | R8: 945.831 | S8: 982.781 | T8: 1052.9345 | U8: 1130.3821 | V8: 1508.4686
D9: 1.1.2 Taxes on property | E9: 20.785445 | F9: 136.89106 | G9: 23.259792 | H9: 65.452642 | I9: 31.738155 | J9: 35.003737 | K9: 24.122313 | L9: 29.32187 | M9: 31.284121 | N9: 35.556044 | O9: 41.885031 | P9: 41.377067 | Q9: 42.053508 | R9: 47.802 | U9: 0
D10: 1.1.3 Taxes on goods & services | E10: 509.66425 | F10: 497.916 | G10: 789.4298 | H10: 823.4375 | I10: 1011.608 | J10: 999.898 | K10: 676.1177 | L10: 585.36921 | M10: 921.32469 | N10: 1037.9801 | O10: 1110.1117 | P10: 657.4717 | Q10: 605.39106 | R10: 594.39321 | S10: 677.547 | T10: 1205.619 | U10: 1314.7802 | V10: 1507.8841
D11: 1.1.4 Taxes on international trade & transactions | E11: 344.14993 | F11: 279.28736 | G11: 342.98455 | H11: 671.81286 | I11: 780.46168 | J11: 715.77168 | K11: 1050.6997 | L11: 1094.442 | M11: 847.7698 | N11: 931.296 | O11: 1090.0478 | P11: 1237.2508 | Q11: 1090.2753 | R11: 1053.3306 | S11: 980.128 | T11: 642.09952 | U11: 672 | V11: 629.57874
D12: 1.2 Grants | E12: 204.28985 | F12: 198.22585 | G12: 264.74544 | H12: 263.50194 | I12: 136.37703 | J12: 343.02962 | K12: 301.08804 | L12: 436.18417 | M12: 243.6883 | N12: 213.81625 | O12: 317.2201 | P12: 213.40861 | Q12: 697.06045 | R12: 673.27292 | S12: 611.65827 | T12: 1868.821 | U12: 1575.3028 | V12: 138.50645
D13: 1.3 Other receipts | E13: 37.175784 | F13: 51.925771 | G13: 96.750235 | H13: 125.8826 | I13: 142.28646 | J13: 261.22936 | K13: 358.22059 | L13: 535.47901 | M13: 388.28747 | N13: 538.88885 | O13: 471.40397 | P13: 477.00961 | Q13: 446.97488 | R13: 393.07897 | S13: 305.32353 | T13: 269.5141 | U13: 287.57752 | V13: 461.18679
C15: 2 | D15: Total Expenditure | E15: 1460.1394 | F15: 1471.4554 | G15: 1635.4964 | H15: 2169.1099 | I15: 2562.3854 | J15: 2964.0752 | K15: 3054.0835 | L15: 3505.6657 | M15: 3724.1173 | N15: 3902.2576 | O15: 3876.3029 | P15: 3834.3184 | Q15: 4107.538 | R15: 3860.4782 | S15: 3933.1478 | T15: =SUM(T16)+SUM(T20)+SUM(T25) -> 5574.2319 | U15: =SUM(U16)+SUM(U20)+SUM(U25) -> 5236.3274 | V15: =SUM(V16)+SUM(V20)+SUM(V25) -> 4777.6246
D16: 2.1a Recurrent Expense | E16: 913.34289 | F16: 982.92062 | G16: 1332.9003 | H16: 1555.8245 | I16: 1960.2514 | J16: 2047.6234 | K16: 2148.732 | L16: 2232.858 | M16: 2370.2581 | N16: 2566.6538 | O16: 2847.3077 | P16: 3057.2621 | Q16: 3079.3662 | R16: 2627.7098 | S16: 3008.6552 | T16: =SUM(T17)+SUM(T18)+SUM(T19) -> 3233.1915 | U16: =SUM(U17)+SUM(U18)+SUM(U19) -> 3543.1298 | V16: =SUM(V17)+SUM(V18)+SUM(V19) -> 3446.5845
D17: 2.1.1 Compensation of employees | E17: 426.86932 | F17: 449.46657 | G17: 586.7988 | H17: 719.58957 | I17: 648.12819 | J17: 851.6798 | K17: 952.49164 | L17: 1086.5272 | M17: 1113.1962 | N17: 1233.3406 | O17: 1322.0785 | P17: 1392.7479 | Q17: 1467.3154 | R17: 1352.6375 | S17: 1635.9505 | T17: 2072.596 | U17: 2143.8885 | V17: 1896.9324
D18: 2.1.2 Purchases of goods and services | E18: 440.60069 | F18: 502.06548 | G18: 718.53529 | H18: 811.58651 | I18: 1190.9378 | J18: 1121.4006 | K18: 1182.8191 | L18: 1134.8254 | M18: 1239.6498 | N18: 1319.6157 | O18: 1514.7707 | P18: 1644.2556 | Q18: 1587.3202 | R18: 1248.5177 | S18: 1328.8365 | T18: 1119.2826 | U18: 1326.3925 | V18: 1471.0748
D19: 2.1.3 Interest | E19: 45.872888 | F19: 31.388576 | G19: 27.566217 | H19: 24.648418 | I19: 121.18548 | J19: 74.543013 | K19: 13.421214 | L19: 11.505457 | M19: 17.412114 | N19: 13.697464 | O19: 10.458507 | P19: 20.258578 | Q19: 24.730676 | R19: 26.554582 | S19: 43.868199 | T19: 41.312924 | U19: 72.848877 | V19: 78.577308
D20: 2.1b Benefits and Transfers | E20: 413.15456 | F20: 388.64208 | G20: 155.22121 | H20: 467.50448 | I20: 428.83413 | J20: 602.29093 | K20: 460.31648 | L20: 596.67536 | M20: 552.8274 | N20: 508.30775 | O20: 372.96911 | P20: 304.37354 | Q20: 413.48448 | R20: 495.42117 | S20: 447.05548 | T20: =SUM(T21:T24) -> 826.28521 | U20: =SUM(U21:U24) -> 668.53761 | V20: =SUM(V21:V24) -> 801.60332
D21: 2.1.4 Subsidies | E21: 0 | F21: 5 | G21: -0.01104 | H21: 8.77652 | I21: 0 | J21: 0 | K21: 0.14175 | L21: 20 | M21: 1.0084 | N21: 6.0975608 | O21: 27.879245 | P21: 33.157184 | Q21: 21.598104 | R21: 48.764089 | S21: 44.003476 | T21: 0 | U21: 0 | V21: 1.8177482
D22: 2.1.5 Grants | E22: 87.662162 | F22: 20.77094 | G22: 20.06123 | H22: 128.40983 | I22: 145.76587 | J22: 318.32899 | K22: 182.98965 | L22: 161.47969 | M22: 188.13408 | N22: 174.63868 | O22: 154.72313 | P22: 91.378426 | Q22: 128.64725 | R22: 241.04685 | S22: 217.51456 | T22: 166.9866 | U22: 472.60351 | V22: 603.21077
D23: 2.1.6 Social benefits | E23: 0.4383364 | F23: 0.66930461 | G23: 0.06814148 | H23: 1.4680526 | I23: 0.67179448 | J23: 12.99958 | K23: 36.960218 | L23: 101.24996 | M23: 28.516943 | N23: 30.727325 | O23: 53.453295 | P23: 47.190855 | Q23: 55.343718 | R23: 68.831316 | S23: 62.111632 | T23: 0 | U23: 0 | V23: 17.217478
D24: 2.1.7 Other payments | E24: 325.05406 | F24: 362.20184 | G24: 135.10288 | H24: 328.85008 | I24: 282.39647 | J24: 270.96236 | K24: 240.22487 | L24: 313.94571 | M24: 335.16798 | N24: 296.84418 | O24: 136.91344 | P24: 132.64708 | Q24: 207.89541 | R24: 136.77891 | S24: 123.42582 | T24: 659.2986 | U24: 195.9341 | V24: 179.35733
D25: 2.2 Purchases of non-financial Assets | E25: 133.64195 | F25: 99.892717 | G25: 147.37487 | H25: 145.78087 | I25: 173.29979 | J25: 314.16092 | K25: 445.03508 | L25: 676.13226 | M25: 801.03183 | N25: 827.29604 | O25: 656.02604 | P25: 472.68275 | Q25: 614.68725 | R25: 737.3472 | S25: 477.4371 | T25: =SUM(T26:T27) -> 1514.7551 | U25: =SUM(U26:U27) -> 1024.66 | V25: =SUM(V26:V27) -> 529.43671
D26: 2.2.1 Fixed assets | E26: 129.97592 | F26: 97.812226 | G26: 144.58477 | H26: 143.02094 | I26: 166.78678 | J26: 313.15615 | K26: 435.82893 | L26: 639.57592 | M26: 788.46943 | N26: 806.627 | O26: 637.93423 | P26: 458.1461 | Q26: 585.50625 | R26: 716.49546 | S26: 463.93546 | T26: 1512.9249 | U26: 1017 | V26: 524.54055
D27: 2.2.2 Nonproduced assets | E27: 3.6660331 | F27: 2.080491 | G27: 2.7901039 | H27: 2.7599261 | I27: 6.5130018 | J27: 1.0047665 | K27: 9.2061536 | L27: 36.556337 | M27: 12.562397 | N27: 20.669037 | O27: 18.091815 | P27: 14.536646 | Q27: 29.180998 | R27: 20.851744 | S27: 13.50164 | T27: 1.8302877 | U27: 7.66 | V27: 4.896165
C29: (1-2) | D29: (Surplus/Deficit | E29: 105.177 | F29: 139.40597 | G29: 410.64856 | H29: 499.37614 | I29: 401.6863 | J29: 349.6398 | K29: 230.14785 | L29: 123.43627 | M29: -346.2337 | N29: -105.62985 | O29: 191.87834 | P29: -201.698 | Q29: -307.42586 | R29: -152.76956 | S29: -375.70998 | T29: =T6-T15 -> -535.24376 | U29: =U6-U15 -> -256.28495 | V29: =V6-V15 -> -531.99984
C30: (1-2+2.1.3) | D30: Primary Balance | E30: 151.04989 | F30: 170.79455 | G30: 438.21477 | H30: 524.02456 | I30: 522.87177 | J30: 424.18282 | K30: 243.56906 | L30: 134.94173 | M30: -328.82159 | N30: -91.932384 | O30: 202.33685 | P30: -181.43942 | Q30: -282.69518 | R30: -126.21498 | S30: -331.84178 | T30: =T6-T15+T19 -> -493.93084 | U30: =U6-U15+U19 -> -183.43607 | V30: =V6-V15+V19 -> -453.42253
D34: CBSI classifies Government finance data according to IMF GFSM2014 standards and classifications. As of 2020 to 2023, the changes was due to methodologies while 2023 to date, the changes in the figues were due to improvements in the statistics. This compilation does include Balance of Payment (BOP) grants. All figures are in local currency in millions.
D35: Sources: Ministry of Finance and Treasury (MOFT)

Sheet Tab 1.1b
E3: Government Finance Statistics: Central Government
D4: Statements of Government Operations (SBD '000)
E5: 2008 | F5: 2009 | G5: 2010 | H5: 2011 | I5: 2012 | J5: 2013 | K5: 2014 | L5: 2015 | M5: 2016 | N5: 2017 | O5: 2018 | P5: 2019 | Q5: 2020 | R5: 2021 | S5: 2022 | T5: 2023 | U5: 2024 | V5: 2025
C6: 1 | D6: Total Revenue | E6: 1565.3164 | F6: 1610.8614 | G6: 2046.1449 | H6: 2668.486 | I6: 2964.0717 | J6: 3313.715 | K6: 3284.2314 | L6: 3629.1019 | M6: 3377.8836 | N6: 3796.6277 | O6: 4068.1812 | P6: 3632.6204 | Q6: 3800.1121 | R6: 3707.7087 | S6: 3557.4378 | T6: 3457.6106 | U6: 3856.8745 | V6: 3969.3259
D7: 1.1 Tax | E7: 1323.8508 | F7: 1360.7098 | G7: 1684.6493 | H7: 2279.1015 | I7: 2685.4082 | J7: 2709.4561 | K7: 2624.9228 | L7: 2657.4388 | M7: 2745.9079 | N7: 3043.9226 | O7: 3279.5571 | P7: 2942.2022 | Q7: 2656.0768 | R7: 2641.3568 | S7: 2640.456 | T7: 2894.5785 | U7: 3209.9942 | V7: 3448.6876
D8: 1.1.1 Taxes on income, profits, and capital gains | E8: 449.25114 | F8: 446.61535 | G8: 528.97514 | H8: 718.39844 | I8: 861.60033 | J8: 958.78264 | K8: 873.98305 | L8: 948.30566 | M8: 945.52926 | N8: 1039.0905 | O8: 1037.5126 | P8: 1006.1027 | Q8: 918.35687 | R8: 945.831 | S8: 982.781 | T8: 1050.937 | U8: 1204.3821 | V8: 1368.4144
D9: 1.1.2 Taxes on property | E9: 20.785445 | F9: 136.89106 | G9: 23.259792 | H9: 65.452642 | I9: 31.738155 | J9: 35.003737 | K9: 24.122313 | L9: 29.32187 | M9: 31.284121 | N9: 35.556044 | O9: 41.885031 | P9: 41.377067 | Q9: 42.053508 | R9: 47.802 | S9: 0 | T9: 0 | U9: 0 | V9: 0
D10: 1.1.3 Taxes on goods & services | E10: 509.66425 | F10: 497.916 | G10: 789.4298 | H10: 823.4375 | I10: 1011.608 | J10: 999.898 | K10: 676.1177 | L10: 585.36921 | M10: 921.32469 | N10: 1037.9801 | O10: 1110.1117 | P10: 657.4717 | Q10: 605.39106 | R10: 594.39321 | S10: 677.547 | T10: 1201.5345 | U10: 850.78015 | V10: 1454.6251
D11: 1.1.4 Taxes on international trade & transactions | E11: 344.14993 | F11: 279.28736 | G11: 342.98455 | H11: 671.81286 | I11: 780.46168 | J11: 715.77168 | K11: 1050.6997 | L11: 1094.442 | M11: 847.7698 | N11: 931.296 | O11: 1090.0478 | P11: 1237.2508 | Q11: 1090.2753 | R11: 1053.3306 | S11: 980.128 | T11: 642.107 | U11: 1154.832 | V11: 625.6481
D12: 1.2 Grants | E12: 204.28985 | F12: 198.22585 | G12: 264.74544 | H12: 263.50194 | I12: 136.37703 | J12: 343.02962 | K12: 301.08804 | L12: 436.18417 | M12: 243.6883 | N12: 213.81625 | O12: 317.2201 | P12: 213.40861 | Q12: 697.06045 | R12: 673.27292 | S12: 611.65827 | T12: 274.73849 | U12: 201.30277 | V12: 109.94432
D13: 1.3 Other receipts | E13: 37.175784 | F13: 51.925771 | G13: 96.750235 | H13: 125.8826 | I13: 142.28646 | J13: 261.22936 | K13: 358.22059 | L13: 535.47901 | M13: 388.28747 | N13: 538.88885 | O13: 471.40397 | P13: 477.00961 | Q13: 446.97488 | R13: 393.07897 | S13: 305.32353 | T13: 288.29366 | U13: 445.57752 | V13: 410.69395
Q14: =Q16+Q20+Q25 -> 4107.538
C15: 2 | D15: Total Expenditure | E15: 1460.1394 | F15: 1471.4554 | G15: 1635.4964 | H15: 2169.1099 | I15: 2562.3854 | J15: 2964.0752 | K15: 3054.0835 | L15: 3505.6657 | M15: 3724.1173 | N15: 3902.2576 | O15: 3876.3029 | P15: 3834.3184 | Q15: 4107.538 | R15: 3860.4782 | S15: 3933.1478 | T15: 4407.6073 | U15: 4123.3098 | V15: 4615.372
C16: =Q16/Q15 -> 0.74968662 | D16: 2.1a Recurrent Expense | E16: 913.34289 | F16: 982.92062 | G16: 1332.9003 | H16: 1555.8245 | I16: 1960.2514 | J16: 2047.6234 | K16: 2148.732 | L16: 2232.858 | M16: 2370.2581 | N16: 2566.6538 | O16: 2847.3077 | P16: 3057.2621 | Q16: 3079.3662 | R16: 2627.7098 | S16: 3008.6552 | T16: 3629.3886 | U16: 3659.2262 | V16: 4299.0816
C17: =Q17/Q16 -> 0.47649914 | D17: 2.1.1 Compensation of employees | E17: 426.86932 | F17: 449.46657 | G17: 586.7988 | H17: 719.58957 | I17: 648.12819 | J17: 851.6798 | K17: 952.49164 | L17: 1086.5272 | M17: 1113.1962 | N17: 1233.3406 | O17: 1322.0785 | P17: 1392.7479 | Q17: 1467.3154 | R17: 1352.6375 | S17: 1635.9505 | T17: 1767.3373 | U17: 1811.8885 | V17: 1900.5185
C18: =Q18/Q16 -> 0.51546977 | D18: 2.1.2 Purchases of goods and services | E18: 440.60069 | F18: 502.06548 | G18: 718.53529 | H18: 811.58651 | I18: 1190.9378 | J18: 1121.4006 | K18: 1182.8191 | L18: 1134.8254 | M18: 1239.6498 | N18: 1319.6157 | O18: 1514.7707 | P18: 1644.2556 | Q18: 1587.3202 | R18: 1248.5177 | S18: 1328.8365 | T18: 1348.202 | U18: 1084.3925 | V18: 1413.7489
C19: =Q19/Q16 -> 0.0080310929 | D19: 2.1.3 Interest | E19: 45.872888 | F19: 31.388576 | G19: 27.566217 | H19: 24.648418 | I19: 121.18548 | J19: 74.543013 | K19: 13.421214 | L19: 11.505457 | M19: 17.412114 | N19: 13.697464 | O19: 10.458507 | P19: 20.258578 | Q19: 24.730676 | R19: 26.554582 | S19: 43.868199 | T19: 41.312924 | U19: 72.848877 | V19: 78.581894
C20: =Q20/Q16 -> 0.13427584 | D20: 2.1b Benefits and Transfers | E20: 413.15456 | F20: 388.64208 | G20: 155.22121 | H20: 467.50448 | I20: 428.83413 | J20: 602.29093 | K20: 460.31648 | L20: 596.67536 | M20: 552.8274 | N20: 508.30775 | O20: 372.96911 | P20: 304.37354 | Q20: 413.48448 | R20: 495.42117 | S20: 447.05548 | T20: 472.5364 | U20: 690.09633 | V20: 906.23225
C21: =Q21/Q20 -> 0.052234375 | D21: 2.1.4 Subsidies | E21: 0 | F21: 5 | G21: -0.01104 | H21: 8.77652 | I21: 0 | J21: 0 | K21: 0.14175 | L21: 20 | M21: 1.0084 | N21: 6.0975608 | O21: 27.879245 | P21: 33.157184 | Q21: 21.598104 | R21: 48.764089 | S21: 44.003476 | T21: 0 | U21: 0 | V21: 2.0413726
C22: =Q22/Q20 -> 0.31112958 | D22: 2.1.5 Grants | E22: 87.662162 | F22: 20.77094 | G22: 20.06123 | H22: 128.40983 | I22: 145.76587 | J22: 318.32899 | K22: 182.98965 | L22: 161.47969 | M22: 188.13408 | N22: 174.63868 | O22: 154.72313 | P22: 91.378426 | Q22: 128.64725 | R22: 241.04685 | S22: 217.51456 | T22: 326.05012 | U22: 463.35684 | V22: 692.45242
C23: =Q23/Q20 -> 0.13384715 | D23: 2.1.6 Social benefits | E23: 0.4383364 | F23: 0.66930461 | G23: 0.06814148 | H23: 1.4680526 | I23: 0.67179448 | J23: 12.99958 | K23: 36.960218 | L23: 101.24996 | M23: 28.516943 | N23: 30.727325 | O23: 53.453295 | P23: 47.190855 | Q23: 55.343718 | R23: 68.831316 | S23: 62.111632 | T23: 4.725364 | U23: 0 | V23: 17.708708
C24: =Q24/Q20 -> 0.5027889 | D24: 2.1.7 Other payments | E24: 325.05406 | F24: 362.20184 | G24: 135.10288 | H24: 328.85008 | I24: 282.39647 | J24: 270.96236 | K24: 240.22487 | L24: 313.94571 | M24: 335.16798 | N24: 296.84418 | O24: 136.91344 | P24: 132.64708 | Q24: 207.89541 | R24: 136.77891 | S24: 123.42582 | T24: 141.76092 | U24: 226.73948 | V24: 194.02975
C25: =Q25/Q15 -> 0.14964859 | D25: 2.2 Purchases of non-financial Assets | E25: 133.64195 | F25: 99.892717 | G25: 147.37487 | H25: 145.78087 | I25: 173.29979 | J25: 314.16092 | K25: 445.03508 | L25: 676.13226 | M25: 801.03183 | N25: 827.29604 | O25: 656.02604 | P25: 472.68275 | Q25: 614.68725 | R25: 737.3472 | S25: 477.4371 | T25: 778.21876 | U25: 464.08363 | V25: 316.2904
C26: =Q26/Q25 -> 0.95252708 | D26: 2.2.1 Fixed assets | E26: 129.97592 | F26: 97.812226 | G26: 144.58477 | H26: 143.02094 | I26: 166.78678 | J26: 313.15615 | K26: 435.82893 | L26: 639.57592 | M26: 788.46943 | N26: 806.627 | O26: 637.93423 | P26: 458.1461 | Q26: 585.50625 | R26: 716.49546 | S26: 463.93546 | T26: 777.52244 | U26: 463.66839 | V26: 316.2904
C27: =Q27/Q25 -> 0.047472919 | D27: 2.2.2 Nonproduced assets | E27: 3.6660331 | F27: 2.080491 | G27: 2.7901039 | H27: 2.7599261 | I27: 6.5130018 | J27: 1.0047665 | K27: 9.2061536 | L27: 36.556337 | M27: 12.562397 | N27: 20.669037 | O27: 18.091815 | P27: 14.536646 | Q27: 29.180998 | R27: 20.851744 | S27: 13.50164 | T27: 0.69631537 | U27: 0.4152413 | V27: 0
C29: (1-2) | D29: (Surplus/Deficit | E29: 105.177 | F29: 139.40597 | G29: 410.64856 | H29: 499.37614 | I29: 401.6863 | J29: 349.6398 | K29: 230.14785 | L29: 123.43627 | M29: -346.2337 | N29: -105.62985 | O29: 191.87834 | P29: -201.698 | Q29: -307.42586 | R29: -152.76956 | S29: -375.70998 | T29: -949.99673 | U29: -266.43533 | V29: -646.04611
C30: (1-2+2.1.3) | D30: Primary Balance | E30: 151.04989 | F30: 170.79455 | G30: 438.21477 | H30: 524.02456 | I30: 522.87177 | J30: 424.18282 | K30: 243.56906 | L30: 134.94173 | M30: -328.82159 | N30: -91.932384 | O30: 202.33685 | P30: -181.43942 | Q30: -282.69518 | R30: -126.21498 | S30: -331.84178 | T30: -908.6838 | U30: -193.58645 | V30: -560.43198
D34: CBSI classifies Government finance data according to IMF GFSM2014 standards and classifications. As of 2020 to 2023, the changes was due to methodologies while 2023 to date, the changes in the figues were due to improvements in the statistics. This compilation does include Balance of Payment (BOP) grants. All figures are in local currency in millions.
D35: Sources: Ministry of Finance and Treasury (MOFT)

Sheet Tab 1.2a
H2: Government Finance Statistics: Central Government | W2: Government Finance Statistics: Central Government
D3: Statements of Government Operations (SBD '000) | E3: 2008 | F3: 2009 | G3: 2010 | H3: 2011 | I3: 2012 | J3: 2013 | K3: 2014 | L3: 2015 | M3: 2016 | N3: 2017 | O3: 2018 | P3: 2019 | Q3: 2020 | R3: 2021 | S3: 2022 | T3: 2023 | U3: 2024 | W3: 2008 | AA3: 2009 | AE3: 2010 | AI3: 2011 | AM3: 2012 | AQ3: 2013 | AU3: 2014 | AY3: 2015 | BC3: 2016 | BG3: 2017 | BK3: 2018 | BO3: 2019 | BS3: 2020 | BW3: 2021 | CA3: 2022 | CE3: 2023 | CI3: 2024 | CM3: 2025 | CQ3: 2026
W4: Q1 | X4: Q2 | Y4: Q3 | Z4: Q4 | AA4: Q1 | AB4: Q2 | AC4: Q3 | AD4: Q4 | AE4: Q1 | AF4: Q2 | AG4: Q3 | AH4: Q4 | AI4: Q1 | AJ4: Q2 | AK4: Q3 | AL4: Q4 | AM4: Q1 | AN4: Q2 | AO4: Q3 | AP4: Q4 | AQ4: Q1 | AR4: Q2 | AS4: Q3 | AT4: Q4 | AU4: Q1 | AV4: Q2 | AW4: Q3 | AX4: Q4 | AY4: Q1 | AZ4: Q2 | BA4: Q3 | BB4: Q4 | BC4: Q1 | BD4: Q2 | BE4: Q3 | BF4: Q4 | BG4: Q1 | BH4: Q2 | BI4: Q3 | BJ4: Q4 | BK4: Q1 | BL4: Q2 | BM4: Q3 | BN4: Q4 | BO4: Q1 | BP4: Q2 | BQ4: Q3 | BR4: Q4 | BS4: Q1 | BT4: Q2 | BU4: Q3 | BV4: Q4 | BW4: Q1 | BX4: Q2 | BY4: Q3 | BZ4: Q4 | CA4: Q1 | CB4: Q2 | CC4: Q3 | CD4: Q4 | CE4: Q1 | CF4: Q2 | CG4: Q3 | CH4: Q4 | CI4: Q1 | CJ4: Q2 | CK4: Q3 | CL4: Q4 | CM4: Q1 | CN4: Q2 | CO4: Q3 | CP4: Q4 | CQ4: Q1 | CR4: Q2
C5: 1 | D5: Total Revenue | E5: ='Tab1.1a'!E6 -> 1565.3164 | F5: ='Tab1.1a'!F6 -> 1610.8614 | G5: ='Tab1.1a'!G6 -> 2046.1449 | H5: ='Tab1.1a'!H6 -> 2668.486 | I5: ='Tab1.1a'!I6 -> 2964.0717 | J5: ='Tab1.1a'!J6 -> 3313.715 | K5: ='Tab1.1a'!K6 -> 3284.2314 | L5: ='Tab1.1a'!L6 -> 3629.1019 | ... U5: ='Tab1.1a'!U6 -> 4980.0425 | W5: 310.41793 | X5: 385.3617 | Y5: 401.25131 | Z5: 468.28546 | AA5: 386.06615 | AB5: 478.55046 | AC5: 443.07755 | AD5: 303.16724 | AE5: 558.07517 | AF5: 495.86824 | AG5: 503.30096 | AH5: 488.90057 | AI5: 406.73412 | AJ5: 661.08228 | AK5: 518.34075 | AL5: 1082.3289 | AM5: 659.64766 | AN5: 630.49472 | AO5: 588.5713 | AP5: 1085.358 | AQ5: 583.96126 | AR5: 717.0437 | AS5: 779.51115 | AT5: 1233.1989 | AU5: 655.24008 | AV5: 818.18449 | AW5: 773.74185 | AX5: 1037.065 | AY5: 815.97717 | AZ5: 887.77765 | BA5: 787.82615 | BB5: 1137.521 | BC5: 698.15117 | BD5: 860.34619 | BE5: 838.55814 | BF5: 980.82814 | BG5: 703.48367 | BH5: 901.48939 | BI5: 1023.843 | BJ5: 1167.8116 | BK5: 910.713 | BL5: 962.97046 | BM5: 998.39829 | BN5: 1196.0995 | BO5: 791.37907 | BP5: 1011.5803 | BQ5: 955.82911 | BR5: 873.83193 | BS5: 828.97373 | BT5: 955.64946 | BU5: 962.00013 | BV5: 1053.4888 | BW5: 735.09454 | BX5: 1043.9129 | BY5: 902.54924 | BZ5: 1026.152 | CA5: 721.32261 | CB5: 909.68002 | CC5: 1002.7812 | CD5: 923.65395 | CE5: =SUM(CE6)+SUM(CE11)+SUM(CE12) -> 1005.6119 | CF5: =SUM(CF6)+SUM(CF11)+SUM(CF12) -> 1098.1149 | CG5: =SUM(CG6)+SUM(CG11)+SUM(CG12) -> 1164.3331 | CH5: =SUM(CH6)+SUM(CH11)+SUM(CH12) -> 1770.9281 | CI5: =SUM(CI6)+SUM(CI11)+SUM(CI12) -> 1095.1405 | CJ5: =SUM(CJ6)+SUM(CJ11)+SUM(CJ12) -> 1154.1147 | CK5: =SUM(CK6)+SUM(CK11)+SUM(CK12) -> 1152.2546 | CL5: =SUM(CL6)+SUM(CL11)+SUM(CL12) -> 1578.5327 | ... CR5: =SUM(CR6)+SUM(CR11)+SUM(CR12) -> 1148.6509
D6: 1.1 Tax | E6: ='Tab1.1a'!E7 -> 1323.8508 | F6: ='Tab1.1a'!F7 -> 1360.7098 | G6: ='Tab1.1a'!G7 -> 1684.6493 | H6: ='Tab1.1a'!H7 -> 2279.1015 | I6: ='Tab1.1a'!I7 -> 2685.4082 | J6: ='Tab1.1a'!J7 -> 2709.4561 | K6: ='Tab1.1a'!K7 -> 2624.9228 | L6: ='Tab1.1a'!L7 -> 2657.4388 | ... U6: ='Tab1.1a'!U7 -> 3117.1622 | W6: 289.51107 | X6: 323.75419 | Y6: 320.90618 | Z6: 389.67934 | AA6: 353.00295 | AB6: 388.01281 | AC6: 382.87539 | AD6: 236.81863 | AE6: 450.47401 | AF6: 420.80534 | AG6: 453.33774 | AH6: 360.03218 | AI6: 373.29569 | AJ6: 521.24171 | AK6: 477.08626 | AL6: 907.47779 | AM6: 622.3569 | AN6: 579.3618 | AO6: 536.40823 | AP6: 947.28123 | AQ6: 568.46518 | AR6: 633.47039 | AS6: 625.66701 | AT6: 881.85349 | AU6: 553.99229 | AV6: 611.04431 | AW6: 675.47859 | AX6: 784.40757 | AY6: 603.21702 | AZ6: 617.85238 | BA6: 647.25791 | BB6: 789.11144 | BC6: 608.08606 | BD6: 657.46565 | BE6: 620.88202 | BF6: 859.47415 | BG6: 643.24972 | BH6: 680.91324 | BI6: 786.7253 | BJ6: 933.03435 | BK6: 788.07085 | BL6: 769.86507 | BM6: 857.3314 | BN6: 864.28982 | BO6: 716.04791 | BP6: 746.41427 | BQ6: 740.43238 | BR6: 739.30764 | BS6: 673.61988 | BT6: 627.60325 | BU6: 714.52922 | BV6: 640.32443 | BW6: 645.83734 | BX6: 618.98104 | BY6: 667.58314 | BZ6: 708.95525 | CA6: 551.505 | CB6: 622.965 | CC6: 731.93 | CD6: 734.056 | CE6: =SUM(CE7:CE10) -> 676.13667 | CF6: =SUM(CF7:CF10) -> 675.46385 | CG6: =SUM(CG7:CG10) -> 749.31243 | CH6: =SUM(CH7:CH10) -> 799.74006 | CI6: =SUM(CI7:CI10) -> 640.50399 | CJ6: =SUM(CJ7:CJ10) -> 664.93678 | CK6: =SUM(CK7:CK10) -> 710.14259 | CL6: =SUM(CL7:CL10) -> 1101.5789 | ... CR6: =SUM(CR7:CR10) -> 1088.4862
D7: 1.1.1 Taxes on income, profits, and capital gains | E7: ='Tab1.1a'!E8 -> 449.25114 | F7: ='Tab1.1a'!F8 -> 446.61535 | G7: ='Tab1.1a'!G8 -> 528.97514 | H7: ='Tab1.1a'!H8 -> 718.39844 | I7: ='Tab1.1a'!I8 -> 861.60033 | J7: ='Tab1.1a'!J8 -> 958.78264 | K7: ='Tab1.1a'!K8 -> 873.98305 | L7: ='Tab1.1a'!L8 -> 948.30566 | ... U7: ='Tab1.1a'!U8 -> 1130.3821 | W7: 91.413985 | X7: 93.431988 | Y7: 113.99166 | Z7: 150.41351 | AA7: 104.20472 | AB7: 126.51401 | AC7: 133.99529 | AD7: 81.901331 | AE7: 118.99745 | AF7: 144.24282 | AG7: 165.49976 | AH7: 100.23511 | AI7: 128.42401 | AJ7: 164.30356 | AK7: 129.65253 | AL7: 296.01834 | AM7: 166.66878 | AN7: 202.70838 | AO7: 167.07324 | AP7: 325.14993 | AQ7: 179.5132 | AR7: 229.76407 | AS7: 211.24917 | AT7: 338.2562 | AU7: 174.51702 | AV7: 209.47527 | AW7: 209.57917 | AX7: 280.41158 | AY7: 215.42637 | AZ7: 201.70331 | BA7: 228.3575 | BB7: 302.81848 | BC7: 217.43556 | BD7: 232.91407 | BE7: 205.59102 | BF7: 289.58861 | BG7: 220.18245 | BH7: 241.18721 | BI7: 298.94843 | BJ7: 278.7724 | BK7: 241.03992 | BL7: 251.82264 | BM7: 275.99433 | BN7: 268.6557 | BO7: 218.71548 | BP7: 257.56992 | BQ7: 252.98902 | BR7: 276.82825 | BS7: 237.14582 | BT7: 191.14438 | BU7: 270.07727 | BV7: 219.98941 | BW7: 225.734 | BX7: 214.692 | BY7: 252.155 | BZ7: 253.25 | CA7: 203.609 | CB7: 246.2 | CC7: 280.107 | CD7: 252.865 | CE7: 235.80138 | CF7: 245.65836 | CG7: 282.63451 | CH7: 288.84027 | CI7: 277.82045 | CJ7: 293.1276 | CK7: 320.637 | CL7: 238.797 | CM7: 277.09622 | CN7: 374.87655 | CO7: 365.70631 | CP7: 490.78955 | CQ7: 451.24511 | CR7: 557.949
D8: 1.1.2 Taxes on property | E8: 20.785445 | F8: 136.89106 | G8: 23.259792 | H8: 65.452642 | I8: 31.738155 | J8: 35.003737 | K8: 24.122313 | L8: 29.32187 | M8: 31.284121 | N8: 35.556044 | O8: 41.885031 | P8: 41.377067 | Q8: 42.053508 | R8: 47.802 | S8: 0 | T8: 0 | U8: 0 | W8: 1.6368963 | X8: 15.06601 | Y8: 1.8703371 | Z8: 2.2122013 | AA8: 28.140739 | AB8: 20.93285 | AC8: 46.930287 | AD8: 40.887186 | AE8: 6.0209357 | AF8: 5.7579335 | AG8: 5.8145618 | AH8: 5.6663611 | AI8: 5.4446598 | AJ8: 13.682383 | AK8: 5.7543473 | AL8: 40.571252 | AM8: 7.7718562 | AN8: 8.0354699 | AO8: 7.403889 | AP8: 8.5269404 | AQ8: 8.0828058 | AR8: 8.1922394 | AS8: 12.10626 | AT8: 6.6224318 | AU8: 5.1271903 | AV8: 8.0245182 | AW8: 5.9654192 | AX8: 5.0051854 | AY8: 6.0843209 | AZ8: 9.4885585 | BA8: 6.76237 | BB8: 6.9866208 | BC8: 6.4213231 | BD8: 7.8082224 | BE8: 9.574842 | BF8: 7.4797338 | BG8: 7.8304597 | BH8: 9.5695631 | BI8: 9.2089121 | BJ8: 8.9471095 | BK8: 7.2237529 | BL8: 12.11623 | BM8: 9.5210255 | BN8: 13.024023 | BO8: 9.0188551 | BP8: 11.213286 | BQ8: 11.281017 | BR8: 9.863909 | BS8: 9.8325991 | BT8: 12.482074 | BU8: 8.289231 | BV8: 11.449604 | BW8: 11.675 | BX8: 13.105 | BY8: 11.437 | BZ8: 11.585 | CA8: 0 | CB8: 0 | CC8: 0 | CD8: 0 | CE8: 0 | CF8: 0 | CG8: 0 | CH8: 0
D9: 1.1.3 Taxes on goods & services | E9: 509.66425 | F9: 497.916 | G9: 789.4298 | H9: 823.4375 | I9: 1011.608 | J9: 999.898 | K9: 676.1177 | L9: 585.36921 | M9: 921.32469 | N9: 1037.9801 | O9: 1110.1117 | P9: 657.4717 | Q9: 605.39106 | R9: 594.39321 | S9: 677.547 | T9: 1205.619 | U9: 1314.7802 | W9: 125.04411 | X9: 122.60149 | Y9: 111.32332 | Z9: 150.69533 | AA9: 138.82243 | AB9: 161.67261 | AC9: 125.63602 | AD9: 71.784945 | AE9: 240.50255 | AF9: 196.5265 | AG9: 190.29706 | AH9: 162.10369 | AI9: 137.34666 | AJ9: 193.61454 | AK9: 197.55309 | AL9: 294.92321 | AM9: 254.25723 | AN9: 239.90083 | AO9: 203.32305 | AP9: 314.12688 | AQ9: 211.01854 | AR9: 230.56984 | AS9: 250.57647 | AT9: 307.73315 | AU9: 148.81277 | AV9: 157.36256 | AW9: 178.48117 | AX9: 191.46119 | AY9: 126.09756 | AZ9: 142.97973 | BA9: 158.29143 | BB9: 158.00049 | BC9: 196.65235 | BD9: 217.44977 | BE9: 225.485 | BF9: 281.73756 | BG9: 217.24323 | BH9: 240.40134 | BI9: 253.85897 | BJ9: 326.47652 | BK9: 267.87573 | BL9: 235.05879 | BM9: 310.26809 | BN9: 296.90911 | BO9: 152.76863 | BP9: 148.92816 | BQ9: 188.24774 | BR9: 167.52717 | BS9: 146.46557 | BT9: 150.26238 | BU9: 152.58214 | BV9: 156.08097 | BW9: 143.2199 | BX9: 155.86776 | BY9: 145.39679 | BZ9: 149.90876 | CA9: 135.826 | CB9: 169.207 | CC9: 189.294 | CD9: 183.22 | CE9: 280.21364 | CF9: 273.4349 | CG9: 300.89798 | CH9: 351.07247 | CI9: 193.68354 | CJ9: 205.80917 | CK9: 222.50559 | CL9: 692.78185 | CM9: 346.57504 | CN9: 343.20729 | CO9: 387.03013 | CP9: 431.07168 | CQ9: 355.81399 | CR9: 391.06332
D10: 1.1.4 Taxes on international trade & transactions | E10: ='Tab1.1a'!E11 -> 344.14993 | F10: ='Tab1.1a'!F11 -> 279.28736 | G10: ='Tab1.1a'!G11 -> 342.98455 | H10: ='Tab1.1a'!H11 -> 671.81286 | I10: ='Tab1.1a'!I11 -> 780.46168 | J10: ='Tab1.1a'!J11 -> 715.77168 | K10: ='Tab1.1a'!K11 -> 1050.6997 | L10: ='Tab1.1a'!L11 -> 1094.442 | ... P10: ='Tab1.1a'!P11 -> 1237.2508 | Q10: 1090.2753 | R10: 1053.3306 | S10: 980.128 | T10: 642.09952 | U10: 672 | W10: 71.416072 | X10: 92.654696 | Y10: 93.720856 | Z10: 86.358307 | AA10: 81.835059 | AB10: 78.893341 | AC10: 76.313796 | AD10: 42.245168 | AE10: 84.953084 | AF10: 74.278088 | AG10: 91.72636 | AH10: 92.027013 | AI10: 102.08036 | AJ10: 149.64123 | AK10: 144.12629 | AL10: 275.96499 | AM10: 193.65904 | AN10: 128.71711 | AO10: 158.60806 | AP10: 299.47747 | AQ10: 169.85063 | AR10: 164.94423 | AS10: 151.73512 | AT10: 229.24171 | AU10: 225.53531 | AV10: 236.18196 | AW10: 281.45283 | AX10: 307.52961 | AY10: 255.60877 | AZ10: 263.68079 | BA10: 253.84661 | BB10: 321.30584 | BC10: 187.57682 | BD10: 199.29359 | BE10: 180.23115 | BF10: 280.66824 | BG10: 197.99358 | BH10: 189.75512 | BI10: 224.70898 | BJ10: 318.83832 | BK10: 271.93145 | BL10: 270.8674 | BM10: 261.54795 | BN10: 285.701 | BO10: 335.54494 | BP10: 328.70291 | BQ10: 287.91461 | BR10: 285.0883 | BS10: 280.1759 | BT10: 273.71442 | BU10: 283.58057 | BV10: 252.80444 | BW10: 265.20844 | BX10: 235.31628 | BY10: 258.59435 | BZ10: 294.21149 | CA10: 212.07 | CB10: 207.558 | CC10: 262.529 | CD10: 297.971 | CE10: 160.12164 | CF10: 156.37059 | CG10: 165.77995 | CH10: 159.82733 | CI10: 169 | CJ10: 166 | CK10: 167 | CL10: 170 | CM10: 165.93292 | CN10: 144.27866 | CO10: 159.31089 | CP10: 160.05627 | CQ10: 145.91974 | CR10: 139.47387
D11: 1.2 Grants | E11: ='Tab1.1a'!E12 -> 204.28985 | F11: ='Tab1.1a'!F12 -> 198.22585 | G11: ='Tab1.1a'!G12 -> 264.74544 | H11: ='Tab1.1a'!H12 -> 263.50194 | I11: ='Tab1.1a'!I12 -> 136.37703 | J11: ='Tab1.1a'!J12 -> 343.02962 | K11: ='Tab1.1a'!K12 -> 301.08804 | L11: ='Tab1.1a'!L12 -> 436.18417 | ... U11: ='Tab1.1a'!U12 -> 1575.3028 | W11: 10.993468 | X11: 53.985194 | Y11: 74.528518 | Z11: 64.78267 | AA11: 25.692616 | AB11: 70.847629 | AC11: 50.011092 | AD11: 51.67451 | AE11: 75.40927 | AF11: 66.157145 | AG11: 23.171308 | AH11: 100.00771 | AI11: 18 | AJ11: 122.88245 | AK11: 24.166476 | AL11: 98.453013 | AM11: 23.792634 | AN11: 35.051966 | AO11: 29.69565 | AP11: 47.836778 | AQ11: 0 | AR11: 71.713377 | AS11: 134.43781 | AT11: 136.87843 | AU11: 61.003441 | AV11: 141.11621 | AW11: 18.577176 | AX11: 80.391216 | AY11: 110.82189 | AZ11: 92.631211 | BA11: 59.122589 | BB11: 173.60848 | BC11: 15.553585 | BD11: 70.172504 | BE11: 114.0109 | BF11: 43.95131 | BG11: 19.931535 | BH11: 81.511368 | BI11: 69.154228 | BJ11: 43.219122 | BK11: 0.04381159 | BL11: 75.382684 | BM11: 34.997199 | BN11: 206.79641 | BO11: 29.618908 | BP11: 48.063995 | BQ11: 62.741724 | BR11: 72.983985 | BS11: 35.318142 | BT11: 263.4155 | BU11: 160.251 | BV11: 238.0758 | BW11: 39.268438 | BX11: 337.2926 | BY11: 53.487893 | BZ11: 243.224 | CA11: 104.14506 | CB11: 168.56363 | CC11: 211.38449 | CD11: 127.56509 | CE11: 284.92574 | CF11: 350.73574 | CG11: 318.92574 | CH11: 914.23376 | CI11: 394.30065 | CJ11: 410.61 | CK11: 384.1966 | CL11: 386.19552 | CM11: 55.861408 | CN11: 69.942038 | CO11: 9.96453 | CP11: 2.7645965 | CQ11: 0 | CR11: 0
D12: 1.4 Other receipts | E12: ='Tab1.1a'!E13 -> 37.175784 | F12: ='Tab1.1a'!F13 -> 51.925771 | G12: ='Tab1.1a'!G13 -> 96.750235 | H12: ='Tab1.1a'!H13 -> 125.8826 | I12: ='Tab1.1a'!I13 -> 142.28646 | J12: ='Tab1.1a'!J13 -> 261.22936 | K12: ='Tab1.1a'!K13 -> 358.22059 | L12: ='Tab1.1a'!L13 -> 535.47901 | ... U12: ='Tab1.1a'!U13 -> 287.57752 | W12: 9.9133984 | X12: 7.6223228 | Y12: 5.8166176 | Z12: 13.823445 | AA12: 7.3705873 | AB12: 19.690018 | AC12: 10.191069 | AD12: 14.674097 | AE12: 32.191886 | AF12: 8.9057553 | AG12: 26.791914 | AH12: 28.86068 | AI12: 15.438425 | AJ12: 16.958115 | AK12: 17.088013 | AL12: 76.39805 | AM12: 13.498125 | AN12: 16.080958 | AO12: 22.467416 | AP12: 90.239965 | AQ12: 15.496082 | AR12: 11.859938 | AS12: 19.406328 | AT12: 214.46701 | AU12: 40.244349 | AV12: 66.023978 | AW12: 79.686083 | AX12: 172.26618 | AY12: 101.93826 | AZ12: 177.29406 | BA12: 81.445651 | BB12: 174.80105 | BC12: 74.511533 | BD12: 132.70803 | BE12: 103.66522 | BF12: 77.402685 | BG12: 40.302419 | BH12: 139.06479 | BI12: 167.9635 | BJ12: 191.55814 | BK12: 122.59834 | BL12: 117.72271 | BM12: 106.06969 | BN12: 125.01323 | BO12: 45.712256 | BP12: 217.10204 | BQ12: 152.65501 | BR12: 61.540307 | BS12: 120.0357 | BT12: 64.630703 | BU12: 87.219909 | BV12: 175.08857 | BW12: 49.988759 | BX12: 87.639246 | BY12: 181.47821 | BZ12: 73.972751 | CA12: 65.672547 | CB12: 118.15139 | CC12: 59.466728 | CD12: 62.03286 | CE12: 44.549536 | CF12: 71.915344 | CG12: 96.094936 | CH12: 56.954284 | CI12: 60.33587 | CJ12: 78.567945 | CK12: 57.915392 | CL12: 90.758315 | CM12: 71.48279 | CN12: 101.83301 | CO12: 120.83677 | CP12: 166.78487 | CQ12: 43.208088 | CR12: 60.16472
C15: 2 | D15: Total Expenditure | E15: ='Tab1.1a'!E13 -> 37.175784 | F15: ='Tab1.1a'!F13 -> 51.925771 | G15: ='Tab1.1a'!G13 -> 96.750235 | H15: ='Tab1.1a'!H13 -> 125.8826 | I15: ='Tab1.1a'!I13 -> 142.28646 | J15: ='Tab1.1a'!J13 -> 261.22936 | K15: ='Tab1.1a'!K13 -> 358.22059 | L15: ='Tab1.1a'!L13 -> 535.47901 | ... U15: ='Tab1.1a'!U13 -> 287.57752 | W15: 273.4077 | X15: 365.67529 | Y15: 467.98677 | Z15: 353.06964 | AA15: 440.7958 | AB15: 473.58116 | AC15: 295.94 | AD15: 261.13847 | AE15: 341.85762 | AF15: 379.30759 | AG15: 421.63299 | AH15: 492.69819 | AI15: 406.09196 | AJ15: 653.33402 | AK15: 465.74924 | AL15: 643.93463 | AM15: 570.59573 | AN15: 725.6009 | AO15: 647.67376 | AP15: 618.51497 | AQ15: 578.23068 | AR15: 684.41409 | AS15: 620.3618 | AT15: 1081.0687 | AU15: 641.26903 | AV15: 682.15426 | AW15: 844.48461 | AX15: 886.17564 | AY15: 483.92651 | AZ15: 750.82125 | BA15: 1003.0916 | BB15: 1267.8263 | BC15: 782.79056 | BD15: 1000.928 | BE15: 908.22591 | BF15: 1032.1729 | BG15: 742.42242 | BH15: 946.71971 | BI15: 1019.1202 | BJ15: 1193.9952 | BK15: 601.75576 | BL15: 983.68094 | BM15: 1193.4468 | BN15: 1097.4193 | BO15: 774.19848 | BP15: 899.7836 | BQ15: 941.81623 | BR15: 1218.5201 | BS15: 840.59948 | BT15: 978.1125 | BU15: 1105.9312 | BV15: 1182.8947 | BW15: 712.929 | BX15: 1179.0918 | BY15: 1123.5022 | BZ15: 844.95521 | CA15: 651.81162 | CB15: 979.43828 | CC15: 1099.3714 | CD15: 1202.5265 | CE15: =SUM(CE16)+SUM(CE25) -> 1102.1103 | CF15: =SUM(CF16)+SUM(CF25) -> 1377.2929 | CG15: =SUM(CG16)+SUM(CG25) -> 1373.0806 | CH15: =SUM(CH16)+SUM(CH25) -> 1721.7481 | CI15: =SUM(CI16)+SUM(CI25) -> 1179.0602 | CJ15: =SUM(CJ16)+SUM(CJ25) -> 1329.4358 | CK15: =SUM(CK16)+SUM(CK25) -> 1277.908 | CL15: =SUM(CL16)+SUM(CL25) -> 1449.8234 | ... CR15: =SUM(CR16)+SUM(CR25) -> 1134.7091
D16: 2.1a Recurrent Expense | E16: ='Tab1.1a'!E16 -> 913.34289 | F16: ='Tab1.1a'!F16 -> 982.92062 | G16: ='Tab1.1a'!G16 -> 1332.9003 | H16: ='Tab1.1a'!H16 -> 1555.8245 | I16: ='Tab1.1a'!I16 -> 1960.2514 | J16: ='Tab1.1a'!J16 -> 2047.6234 | K16: ='Tab1.1a'!K16 -> 2148.732 | L16: ='Tab1.1a'!L16 -> 2232.858 | ... U16: ='Tab1.1a'!U16 -> 3543.1298 | W16: 218.83566 | X16: 232.62555 | Y16: 265.78716 | Z16: 196.09453 | AA16: 266.43671 | AB16: 270.15848 | AC16: 235.03106 | AD16: 211.29438 | AE16: 273.84358 | AF16: 312.08752 | AG16: 350.7623 | AH16: 396.20691 | AI16: 297.96968 | AJ16: 416.11687 | AK16: 338.75937 | AL16: 502.97859 | AM16: 419.60874 | AN16: 549.89291 | AO16: 502.81061 | AP16: 487.93917 | AQ16: 421.68515 | AR16: 463.39062 | AS16: 458.03542 | AT16: 704.5122 | AU16: 486.16643 | AV16: 501.99046 | AW16: 553.8095 | AX16: 606.7656 | AY16: 407.21119 | AZ16: 547.15419 | BA16: 586.5953 | BB16: 691.89735 | BC16: 558.83915 | BD16: 597.67599 | BE16: 595.0237 | BF16: 618.71926 | BG16: 530.29603 | BH16: 623.28853 | BI16: 678.75832 | BJ16: 734.3109 | BK16: 490.26987 | BL16: 736.65519 | BM16: 892.63902 | BN16: 727.74364 | BO16: 692.37483 | BP16: 747.51291 | BQ16: 731.53879 | BR16: 885.8356 | BS16: 742.42236 | BT16: 743.01751 | BU16: 753.86207 | BV16: 840.0643 | BW16: 544.67995 | BX16: 740.16815 | BY16: 762.88331 | BZ16: 579.97845 | CA16: 573.96336 | CB16: 794.98204 | CC16: 702.26034 | CD16: 937.44946 | CE16: =SUM(CE17:CE20) -> 865.62104 | CF16: =SUM(CF17:CF20) -> 963.02576 | CG16: =SUM(CG17:CG20) -> 1078.9522 | CH16: =SUM(CH17:CH20) -> 1151.8777 | CI16: =SUM(CI17:CI20) -> 1003.3902 | CJ16: =SUM(CJ17:CJ20) -> 1067.5458 | CK16: =SUM(CK17:CK20) -> 1007.908 | CL16: =SUM(CL17:CL20) -> 1132.8234 | ... CR16: =SUM(CR17:CR20) -> 1087.6002
D17: 2.1.1 Compensation of employees | E17: ='Tab1.1a'!E17 -> 426.86932 | F17: ='Tab1.1a'!F17 -> 449.46657 | G17: ='Tab1.1a'!G17 -> 586.7988 | H17: ='Tab1.1a'!H17 -> 719.58957 | I17: ='Tab1.1a'!I17 -> 648.12819 | J17: ='Tab1.1a'!J17 -> 851.6798 | K17: ='Tab1.1a'!K17 -> 952.49164 | L17: ='Tab1.1a'!L17 -> 1086.5272 | ... U17: ='Tab1.1a'!U17 -> 2143.8885 | W17: 101.04375 | X17: 107.23801 | Y17: 119.56593 | Z17: 99.021623 | AA17: 118.19148 | AB17: 116.66104 | AC17: 111.70751 | AD17: 102.90654 | AE17: 130.83172 | AF17: 145.60677 | AG17: 155.95485 | AH17: 154.40545 | AI17: 148.80824 | AJ17: 218.21221 | AK17: 170.32416 | AL17: 182.24497 | AM17: 175.15649 | AN17: 168.34938 | AO17: 167.97813 | AP17: 136.64419 | AQ17: 192.30622 | AR17: 163.85986 | AS17: 182.45761 | AT17: 313.05612 | AU17: 247.66461 | AV17: 229.93191 | AW17: 239.04658 | AX17: 235.84855 | AY17: 241.091 | AZ17: 290.59037 | BA17: 257.93425 | BB17: 296.91158 | BC17: 263.59723 | BD17: 304.93231 | BE17: 282.08657 | BF17: 262.58007 | BG17: 282.09615 | BH17: 307.18028 | BI17: 344.51135 | BJ17: 299.55287 | BK17: 276.34865 | BL17: 367.82131 | BM17: 356.26713 | BN17: 321.64141 | BO17: 289.43199 | BP17: 380.06348 | BQ17: 288.9465 | BR17: 434.30595 | BS17: 377.31095 | BT17: 381.63057 | BU17: 376.12381 | BV17: 332.25002 | BW17: 301.04994 | BX17: 330.92239 | BY17: 366.85784 | BZ17: 353.80734 | CA17: 389.4195 | CB17: 399.41823 | CC17: 386.88283 | CD17: 460.22997 | CE17: 507.38083 | CF17: 474.89217 | CG17: 544.15002 | CH17: 546.17298 | CI17: 503.47295 | CJ17: 548.60709 | CK17: 550.89056 | CL17: 540.9179 | CM17: 431.27565 | CN17: 503.13745 | CO17: 485.95334 | CP17: 476.56597 | CQ17: 531.30187 | CR17: 522.56216
D18: 2.1.2 Purchases of goods and services | E18: ='Tab1.1a'!E18 -> 440.60069 | F18: ='Tab1.1a'!F18 -> 502.06548 | G18: ='Tab1.1a'!G18 -> 718.53529 | H18: ='Tab1.1a'!H18 -> 811.58651 | I18: ='Tab1.1a'!I18 -> 1190.9378 | J18: ='Tab1.1a'!J18 -> 1121.4006 | K18: ='Tab1.1a'!K18 -> 1182.8191 | L18: ='Tab1.1a'!L18 -> 1134.8254 | ... U18: ='Tab1.1a'!U18 -> 1326.3925 | W18: 96.811644 | X18: 119.48023 | Y18: 138.06464 | Z18: 86.244171 | AA18: 143.04094 | AB18: 146.11002 | AC18: 113.22441 | AD18: 99.690115 | AE18: 138.297 | AF18: 155.13595 | AG18: 190.52878 | AH18: 234.57355 | AI18: 142.33137 | AJ18: 190.87935 | AK18: 164.15254 | AL18: 314.22325 | AM18: 240.4848 | AN18: 341.26224 | AO18: 280.9537 | AP18: 328.23702 | AQ18: 207.83542 | AR18: 273.77587 | AS18: 273.00522 | AT18: 366.78406 | AU18: 236.05743 | AV18: 269.90174 | AW18: 310.2649 | AX18: 366.59506 | AY18: 164.00451 | AZ18: 253.02133 | BA18: 326.62967 | BB18: 391.16988 | BC18: 292.41442 | BD18: 291.15381 | BE18: 310.02598 | BF18: 346.05559 | BG18: 246.70235 | BH18: 313.42991 | BI18: 328.84135 | BJ18: 430.64205 | BK18: 212.8804 | BL18: 364.02028 | BM18: 534.54024 | BN18: 403.32979 | BO18: 396.29489 | BP18: 363.87345 | BQ18: 435.7193 | BR18: 448.368 | BS18: 358.22551 | BT18: 358.61694 | BU18: 369.76774 | BV18: 500.71002 | BW18: 236.14288 | BX18: 400.34042 | BY18: 393.71334 | BZ18: 218.32112 | CA18: 173.40362 | CB18: 384.48499 | CC18: 304.27323 | CD18: 466.67463 | CE18: 260.3732 | CF18: 298.97741 | CG18: 279.74805 | CH18: 280.18392 | CI18: 338.98506 | CJ18: 342.40798 | CK18: 260.85979 | CL18: 384.13963 | CM18: 311.75397 | CN18: 385.83171 | CO18: 360.76906 | CP18: 412.72008 | CQ18: 301.37111 | CR18: 329.71995
D19: 2.1.3 Interest | E19: ='Tab1.1a'!E19 -> 45.872888 | F19: ='Tab1.1a'!F19 -> 31.388576 | G19: ='Tab1.1a'!G19 -> 27.566217 | H19: ='Tab1.1a'!H19 -> 24.648418 | I19: ='Tab1.1a'!I19 -> 121.18548 | J19: ='Tab1.1a'!J19 -> 74.543013 | K19: ='Tab1.1a'!K19 -> 13.421214 | L19: ='Tab1.1a'!L19 -> 11.505457 | ... U19: ='Tab1.1a'!U19 -> 72.848877 | W19: 20.980262 | X19: 5.9073019 | Y19: 8.1565835 | Z19: 10.828741 | AA19: 5.2042938 | AB19: 7.3874316 | AC19: 10.099134 | AD19: 8.6977165 | AE19: 4.7148597 | AF19: 11.344797 | AG19: 4.2786599 | AH19: 7.2279 | AI19: 6.8300756 | AJ19: 7.0253056 | AK19: 4.2826683 | AL19: 6.5103689 | AM19: 3.967452 | AN19: 40.281292 | AO19: 53.878775 | AP19: 23.057956 | AQ19: 21.543507 | AR19: 25.754885 | AS19: 2.5726008 | AT19: 24.672019 | AU19: 2.4443855 | AV19: 2.156816 | AW19: 4.4980244 | AX19: 4.3219879 | AY19: 2.1156811 | AZ19: 3.5424956 | BA19: 2.031385 | BB19: 3.8158953 | BC19: 2.8274997 | BD19: 1.5898621 | BE19: 2.9111424 | BF19: 10.08361 | BG19: 1.4975327 | BH19: 2.6783377 | BI19: 5.4056219 | BJ19: 4.1159717 | BK19: 1.040819 | BL19: 4.813599 | BM19: 1.8316507 | BN19: 2.7724387 | BO19: 6.6479508 | BP19: 3.5759909 | BQ19: 6.872986 | BR19: 3.1616499 | BS19: 6.8858997 | BT19: 2.77 | BU19: 7.9705176 | BV19: 7.1042589 | BW19: 7.4871314 | BX19: 8.9053367 | BY19: 2.3121274 | BZ19: 7.8499865 | CA19: 11.140245 | CB19: 11.078828 | CC19: 11.104278 | CD19: 10.544849 | CE19: 10.951783 | CF19: 10.061572 | CG19: 13.516671 | CH19: 6.7828976 | CI19: 11.998098 | CJ19: 19.662935 | CK19: 19.289775 | CL19: 21.89807 | CM19: 13.159908 | CN19: 22.442887 | CO19: 11.814408 | CP19: 31.160105 | CQ19: 14.936068 | CR19: 29.264489
D20: 2.1b Benefits and Transfers | E20: ='Tab1.1a'!E20 -> 413.15456 | F20: ='Tab1.1a'!F20 -> 388.64208 | G20: ='Tab1.1a'!G20 -> 155.22121 | H20: ='Tab1.1a'!H20 -> 467.50448 | I20: ='Tab1.1a'!I20 -> 428.83413 | J20: ='Tab1.1a'!J20 -> 602.29093 | K20: ='Tab1.1a'!K20 -> 460.31648 | L20: ='Tab1.1a'!L20 -> 596.67536 | ... U20: ='Tab1.1a'!U20 -> 668.53761 | W20: 45.213055 | X20: 105.57231 | Y20: 152.6279 | Z20: 109.74129 | AA20: 158.06542 | AB20: 177.98847 | AC20: 28.916708 | AD20: 23.671487 | AE20: 49.565423 | AF20: 35.03743 | AG20: 40.519511 | AH20: 30.098846 | AI20: 92.129399 | AJ20: 207.14767 | AK20: 93.127666 | AL20: 75.099745 | AM20: 125.80957 | AN20: 134.10326 | AO20: 94.816882 | AP20: 74.10442 | AQ20: 128.84193 | AR20: 121.18078 | AS20: 104.53858 | AT20: 247.72964 | AU20: 82.613701 | AV20: 92.838246 | AW20: 160.6643 | AX20: 124.20024 | AY20: 63.884655 | AZ20: 143.21237 | BA20: 184.65118 | BB20: 204.92716 | BC20: 121.24199 | BD20: 133.58649 | BE20: 136.76898 | BF20: 161.22995 | BG20: 88.435768 | BH20: 116.23036 | BI20: 147.67103 | BJ20: 155.97059 | BK20: 101.13743 | BL20: 64.92673 | BM20: 104.65072 | BN20: 102.25423 | BO20: 40.975831 | BP20: 50.011405 | BQ20: 64.642879 | BR20: 148.74343 | BS20: 42.056781 | BT20: 75.700123 | BU20: 184.34369 | BV20: 111.38389 | BW20: 168.24905 | BX20: 141.72539 | BY20: 123.55631 | BZ20: 61.890412 | CA20: 77.848261 | CB20: 112.08002 | CC20: 177.69264 | CD20: 79.434559 | CE20: =SUM(CE21:CE24) -> 86.915226 | CF20: =SUM(CF21:CF24) -> 179.09461 | CG20: =SUM(CG21:CG24) -> 241.53745 | CH20: =SUM(CH21:CH24) -> 318.73793 | CI20: =SUM(CI21:CI24) -> 148.9341 | CJ20: =SUM(CJ21:CJ24) -> 156.86784 | CK20: =SUM(CK21:CK24) -> 176.86784 | CL20: =SUM(CL21:CL24) -> 185.86784 | ... CR20: =SUM(CR21:CR24) -> 206.05364
D21: 2.1.4 Subsidies | E21: ='Tab1.1a'!E21 -> 0 | F21: ='Tab1.1a'!F21 -> 5 | G21: ='Tab1.1a'!G21 -> -0.01104 | H21: ='Tab1.1a'!H21 -> 8.77652 | I21: ='Tab1.1a'!I21 -> 0 | J21: ='Tab1.1a'!J21 -> 0 | K21: ='Tab1.1a'!K21 -> 0.14175 | L21: ='Tab1.1a'!L21 -> 20 | ... U21: ='Tab1.1a'!U21 -> 0 | W21: 0 | X21: 0 | Y21: 0 | Z21: 0 | AA21: 0 | AB21: 0 | AC21: 5 | AD21: 0 | AE21: 0 | AF21: 0 | AG21: -0.01104 | AH21: 0 | AI21: 4.399385 | AJ21: 4.377135 | AK21: 0 | AL21: 0 | AM21: 0 | AN21: 0 | AO21: 0 | AP21: 0 | AQ21: 0 | AR21: 0 | AS21: 0 | AT21: 0 | AU21: 0 | AV21: 0.14175 | AW21: 0 | AX21: 0 | AY21: 0 | AZ21: 0 | BA21: 20 | BB21: 0 | BC21: 0 | BD21: 0 | BE21: 1 | BF21: 0.0084 | BG21: 0 | BH21: 2.4390243 | BI21: 1.2195122 | BJ21: 2.4390243 | BK21: 0.389465 | BL21: 0.8197037 | BM21: 11.818101 | BN21: 14.851975 | BO21: 1.872707 | BP21: 11.215418 | BQ21: 12.2916 | BR21: 7.7774588 | BS21: 2.4111358 | BT21: 11.187672 | BU21: 8.0428308 | BV21: -0.04353449 | BW21: 16.560681 | BX21: 13.949968 | BY21: 12.161594 | BZ21: 6.0918462 | CA21: 7.6625703 | CB21: 11.031987 | CC21: 17.490209 | CD21: 7.8187089 | CE21: 0 | CF21: 0 | CG21: 0 | CH21: 0 | CM21: 0.03355 | CN21: 0.051202 | CO21: 1.2897 | CP21: 0.44329618 | CQ21: 0 | CR21: 0
D22: 2.1.5 Grants | E22: ='Tab1.1a'!E22 -> 87.662162 | F22: ='Tab1.1a'!F22 -> 20.77094 | G22: ='Tab1.1a'!G22 -> 20.06123 | H22: ='Tab1.1a'!H22 -> 128.40983 | I22: ='Tab1.1a'!I22 -> 145.76587 | J22: ='Tab1.1a'!J22 -> 318.32899 | K22: ='Tab1.1a'!K22 -> 182.98965 | L22: ='Tab1.1a'!L22 -> 161.47969 | ... U22: ='Tab1.1a'!U22 -> 472.60351 | W22: 16.795519 | X22: 29.315227 | Y22: 23.056935 | Z22: 18.494481 | AA22: 10.75113 | AB22: 3.1208472 | AC22: 3.4824357 | AD22: 3.4165267 | AE22: 3.5274934 | AF22: 6.0134849 | AG22: 6.6353411 | AH22: 3.8849106 | AI22: 36.871687 | AJ22: 29.487057 | AK22: 31.93826 | AL22: 30.112831 | AM22: 44.063737 | AN22: 46.54722 | AO22: 40.868085 | AP22: 14.286828 | AQ22: 91.440925 | AR22: 64.432756 | AS22: 64.43554 | AT22: 98.01977 | AU22: 63.167148 | AV22: 34.829196 | AW22: 68.179822 | AX22: 16.813481 | AY22: 32.523607 | AZ22: 48.582903 | BA22: 48.123755 | BB22: 32.249426 | BC22: 41.834363 | BD22: 56.136629 | BE22: 46.275979 | BF22: 43.887106 | BG22: 43.660851 | BH22: 40.113022 | BI22: 62.366982 | BJ22: 28.497825 | BK22: 47.121085 | BL22: 40.851885 | BM22: 40.763052 | BN22: 25.987105 | BO22: 21.578957 | BP22: 26.580033 | BQ22: 21.400992 | BR22: 21.818442 | BS22: 29.569288 | BT22: 26.619434 | BU22: 28.74114 | BV22: 43.717391 | BW22: 81.861467 | BX22: 68.956397 | BY22: 60.116243 | BZ22: 30.11274 | CA22: 37.877021 | CB22: 54.532461 | CC22: 86.45624 | CD22: 38.648833 | CE22: 13.428215 | CF22: 53.675595 | CG22: 66.135289 | CH22: 33.747504 | CI22: 100 | CJ22: 121.86784 | CK22: 124.86784 | CL22: 125.86784 | CM22: 49.7516 | CN22: 284.425 | CO22: 175.332 | CP22: 93.70217 | CQ22: 164.12309 | CR22: 147.13784
D23: 2.1.6 Social benefits | E23: ='Tab1.1a'!E23 -> 0.4383364 | F23: ='Tab1.1a'!F23 -> 0.66930461 | G23: ='Tab1.1a'!G23 -> 0.06814148 | H23: ='Tab1.1a'!H23 -> 1.4680526 | I23: ='Tab1.1a'!I23 -> 0.67179448 | J23: ='Tab1.1a'!J23 -> 12.99958 | K23: ='Tab1.1a'!K23 -> 36.960218 | L23: ='Tab1.1a'!L23 -> 101.24996 | ... U23: ='Tab1.1a'!U23 -> 0 | W23: 0.36827621 | X23: 0.02579167 | Y23: 0.04426852 | Z23: 0 | AA23: 0.14427578 | AB23: 0.2645814 | AC23: 0.12587604 | AD23: 0.13457139 | AE23: 0.02133445 | AF23: 0.00587685 | AG23: 0.01790733 | AH23: 0.02302285 | AI23: 0 | AJ23: 0.9755126 | AK23: 0.00341 | AL23: 0.48913 | AM23: 0.39158401 | AN23: 0.17518908 | AO23: 0.05532061 | AP23: 0.04970078 | AQ23: 0.56698107 | AR23: 0.8582944 | AS23: 4.9340834 | AT23: 6.6402209 | AU23: 3.8656188 | AV23: 4.3044152 | AW23: 9.81614 | AX23: 18.974044 | AY23: 3.907066 | AZ23: 31.401243 | BA23: 23.06886 | BB23: 42.872791 | BC23: 9.3550447 | BD23: 9.9749218 | BE23: 1.151931 | BF23: 8.0350458 | BG23: 7.6496558 | BH23: 11.983947 | BI23: 6.0030187 | BJ23: 5.0907039 | BK23: 7.7102964 | BL23: 11.780485 | BM23: 6.4413548 | BN23: 27.521158 | BO23: 9.7040436 | BP23: 11.146386 | BQ23: 10.901574 | BR23: 15.438852 | BS23: 7.5233156 | BT23: 12.617995 | BU23: 18.114279 | BV23: 17.088129 | BW23: 23.375674 | BX23: 19.69061 | BY23: 17.16629 | BZ23: 8.5987415 | CA23: 10.815844 | CB23: 15.571832 | CC23: 24.687719 | CD23: 11.036237 | CE23: 0 | CF23: 0 | CG23: 0 | CH23: 0 | CM23: 4.6719214 | CN23: 4.0425173 | CO23: 4.5647533 | CP23: 3.9382858 | CQ23: 4.6294452 | CR23: 3.7593834
D24: 2.1.7 Other payments | E24: ='Tab1.1a'!E24 -> 325.05406 | F24: ='Tab1.1a'!F24 -> 362.20184 | G24: ='Tab1.1a'!G24 -> 135.10288 | H24: ='Tab1.1a'!H24 -> 328.85008 | I24: ='Tab1.1a'!I24 -> 282.39647 | J24: ='Tab1.1a'!J24 -> 270.96236 | K24: ='Tab1.1a'!K24 -> 240.22487 | L24: ='Tab1.1a'!L24 -> 313.94571 | ... U24: ='Tab1.1a'!U24 -> 195.9341 | W24: 28.04926 | X24: 76.231295 | Y24: 129.5267 | Z24: 91.246805 | AA24: 147.17002 | AB24: 174.60304 | AC24: 20.308396 | AD24: 20.120389 | AE24: 46.016596 | AF24: 29.018068 | AG24: 33.877302 | AH24: 26.190913 | AI24: 50.858327 | AJ24: 172.30797 | AK24: 61.185996 | AL24: 44.497785 | AM24: 81.354247 | AN24: 87.380855 | AO24: 53.893476 | AP24: 59.767892 | AQ24: 36.834028 | AR24: 55.889729 | AS24: 35.168953 | AT24: 143.06965 | AU24: 15.580935 | AV24: 53.562885 | AW24: 82.668337 | AX24: 88.412713 | AY24: 27.453982 | AZ24: 63.228219 | BA24: 93.458566 | BB24: 129.80494 | BC24: 70.052586 | BD24: 67.474934 | BE24: 88.341066 | BF24: 109.2994 | BG24: 37.125261 | BH24: 61.694367 | BI24: 78.08152 | BJ24: 119.94303 | BK24: 45.916581 | BL24: 11.474657 | BM24: 45.628215 | BN24: 33.893992 | BO24: 7.8201233 | BP24: 1.0695679 | BQ24: 20.048713 | BR24: 103.70868 | BS24: 2.5530419 | BT24: 25.275022 | BU24: 129.44544 | BV24: 50.621907 | BW24: 46.45123 | BX24: 39.128415 | BY24: 34.112184 | BZ24: 17.087085 | CA24: 21.492825 | CB24: 30.94374 | CC24: 49.058475 | CD24: 21.93078 | CE24: 73.487011 | CF24: 125.41901 | CG24: 175.40216 | CH24: 284.99042 | CI24: 48.934096 | CJ24: 35 | CK24: 52 | CL24: 60 | CM24: 65.810271 | CN24: 47.497731 | CO24: 35.632273 | CP24: 30.505386 | CQ24: 75.527482 | CR24: 55.156423
D25: 2.2 Purchases of non-financial Assets | E25: ='Tab1.1a'!E25 -> 133.64195 | F25: ='Tab1.1a'!F25 -> 99.892717 | G25: ='Tab1.1a'!G25 -> 147.37487 | H25: ='Tab1.1a'!H25 -> 145.78087 | I25: ='Tab1.1a'!I25 -> 173.29979 | J25: ='Tab1.1a'!J25 -> 314.16092 | K25: ='Tab1.1a'!K25 -> 445.03508 | L25: ='Tab1.1a'!L25 -> 676.13226 | ... U25: ='Tab1.1a'!U25 -> 1024.66 | W25: 9.3589865 | X25: 27.477429 | Y25: 49.571715 | Z25: 47.233824 | AA25: 16.293673 | AB25: 25.434214 | AC25: 31.992228 | AD25: 26.172602 | AE25: 18.44861 | AF25: 32.182639 | AG25: 30.351186 | AH25: 66.392439 | AI25: 15.992878 | AJ25: 30.069478 | AK25: 33.862212 | AL25: 65.856302 | AM25: 25.177417 | AN25: 41.604722 | AO25: 50.046271 | AP25: 56.471376 | AQ25: 27.703599 | AR25: 99.842699 | AS25: 57.787801 | AT25: 128.82682 | AU25: 72.488904 | AV25: 87.325554 | AW25: 130.01081 | AX25: 155.20981 | AY25: 12.830667 | AZ25: 60.454694 | BA25: 231.84509 | BB25: 371.00181 | BC25: 102.70941 | BD25: 269.66553 | BE25: 176.43324 | BF25: 252.22366 | BG25: 123.69063 | BH25: 207.20082 | BI25: 192.69086 | BJ25: 303.71373 | BK25: 10.348458 | BL25: 182.09902 | BM25: 196.15709 | BN25: 267.42147 | BO25: 40.847817 | BP25: 102.25928 | BQ25: 145.63455 | BR25: 183.9411 | BS25: 56.120338 | BT25: 159.39487 | BU25: 167.72549 | BV25: 231.44656 | BW25: 0 | BX25: 297.1983 | BY25: 237.06256 | BZ25: 203.08635 | CA25: 0 | CB25: 72.376212 | CC25: 219.41844 | CD25: 185.64245 | CE25: =SUM(CE26:CE27) -> 236.48924 | CF25: =SUM(CF26:CF27) -> 414.26711 | CG25: =SUM(CG26:CG27) -> 294.12843 | CH25: =SUM(CH26:CH27) -> 569.87037 | CI25: =SUM(CI26:CI27) -> 175.67 | CJ25: =SUM(CJ26:CJ27) -> 261.89 | CK25: =SUM(CK26:CK27) -> 270 | CL25: =SUM(CL26:CL27) -> 317 | ... CR25: =SUM(CR26:CR27) -> 47.108814
D26: 2.2.1 Fixed assets | E26: ='Tab1.1a'!E26 -> 129.97592 | F26: ='Tab1.1a'!F26 -> 97.812226 | G26: ='Tab1.1a'!G26 -> 144.58477 | H26: ='Tab1.1a'!H26 -> 143.02094 | I26: ='Tab1.1a'!I26 -> 166.78678 | J26: ='Tab1.1a'!J26 -> 313.15615 | K26: ='Tab1.1a'!K26 -> 435.82893 | L26: ='Tab1.1a'!L26 -> 639.57592 | ... U26: ='Tab1.1a'!U26 -> 1017 | W26: 9.181802 | X26: 26.957226 | Y26: 48.633222 | Z26: 45.203671 | AA26: 15.985201 | AB26: 24.952693 | AC26: 31.386551 | AD26: 25.487782 | AE26: 18.09934 | AF26: 31.573357 | AG26: 29.776577 | AH26: 65.135497 | AI26: 14.854695 | AJ26: 29.487068 | AK26: 33.108878 | AL26: 65.570302 | AM26: 23.024785 | AN26: 41.502852 | AO26: 47.880771 | AP26: 54.378376 | AQ26: 27.466259 | AR26: 99.822699 | AS26: 57.450801 | AT26: 128.4164 | AU26: 69.871865 | AV26: 85.818804 | AW26: 128.09029 | AX26: 152.04797 | AY26: 12.812001 | AZ26: 54.454694 | BA26: 228.80561 | BB26: 343.50362 | BC26: 102.27041 | BD26: 266.54846 | BE26: 175.98512 | BF26: 243.66544 | BG26: 120.28124 | BH26: 202.04206 | BI26: 181.28897 | BJ26: 303.01473 | BK26: 10.348458 | BL26: 180.57639 | BM26: 194.61179 | BN26: 252.39759 | BO26: 39.966817 | BP26: 93.300274 | BQ26: 142.35892 | BR26: 182.52009 | BS26: 54.733638 | BT26: 155.20527 | BU26: 167.04078 | BV26: 208.52657 | BW26: 0 | BX26: 288.7937 | BY26: 230.35857 | BZ26: 197.34319 | CA26: 0 | CB26: 70.329455 | CC26: 213.21342 | CD26: 180.39259 | CE26: 236.27764 | CF26: 412.74632 | CG26: 294.11962 | CH26: 569.78127 | CI26: 174 | CJ26: 260 | CK26: 268 | CL26: 315 | CM26: 13.711484 | CN26: 158.82325 | CO26: 100.05014 | CP26: 251.95568 | CQ26: 45.68143 | CR26: 46.692814
D27: 2.2.2 Nonproduced assets | E27: ='Tab1.1a'!E27 -> 3.6660331 | F27: ='Tab1.1a'!F27 -> 2.080491 | G27: ='Tab1.1a'!G27 -> 2.7901039 | H27: ='Tab1.1a'!H27 -> 2.7599261 | I27: ='Tab1.1a'!I27 -> 6.5130018 | J27: ='Tab1.1a'!J27 -> 1.0047665 | K27: ='Tab1.1a'!K27 -> 9.2061536 | L27: ='Tab1.1a'!L27 -> 36.556337 | ... U27: ='Tab1.1a'!U27 -> 7.66 | W27: 0.17718451 | X27: 0.5202032 | Y27: 0.93849263 | Z27: 2.0301528 | AA27: 0.30847212 | AB27: 0.48152101 | AC27: 0.60567746 | AD27: 0.68482038 | AE27: 0.34926942 | AF27: 0.60928232 | AG27: 0.57460923 | AH27: 1.2569429 | AI27: 1.1381821 | AJ27: 0.58241 | AK27: 0.753334 | AL27: 0.286 | AM27: 2.152632 | AN27: 0.1018698 | AO27: 2.1655 | AP27: 2.093 | AQ27: 0.23734 | AR27: 0.02 | AS27: 0.337 | AT27: 0.41042647 | AU27: 2.617039 | AV27: 1.50675 | AW27: 1.920525 | AX27: 3.1618396 | AY27: 0.018666 | AZ27: 6 | BA27: 3.039482 | BB27: 27.498189 | BC27: 0.439 | BD27: 3.1170625 | BE27: 0.448115 | BF27: 8.55822 | BG27: 3.409389 | BH27: 5.158758 | BI27: 11.40189 | BJ27: 0.699 | BK27: 0 | BL27: 1.5226265 | BM27: 1.5453 | BN27: 15.023889 | BO27: 0.881 | BP27: 8.959005 | BQ27: 3.2756318 | BR27: 1.4210097 | BS27: 1.3867 | BT27: 4.1896 | BU27: 0.684707 | BV27: 22.919991 | BW27: 0 | BX27: 8.4045926 | BY27: 6.7039894 | BZ27: 5.7431623 | CA27: 0 | CB27: 2.0467566 | CC27: 6.2050242 | CD27: 5.249859 | CE27: 0.2116 | CF27: 1.5207837 | CG27: 0.008804 | CH27: 0.0891 | CI27: 1.67 | CJ27: 1.89 | CK27: 2 | CL27: 2 | CM27: 0 | CN27: 0.030871 | CO27: 0.340844 | CP27: 4.52445 | CQ27: 0 | CR27: 0.416
C29: (1-2) | E29: ='Tab1.1a'!E29 -> 105.177 | F29: ='Tab1.1a'!F29 -> 139.40597 | G29: ='Tab1.1a'!G29 -> 410.64856 | H29: ='Tab1.1a'!H29 -> 499.37614 | I29: ='Tab1.1a'!I29 -> 401.6863 | J29: ='Tab1.1a'!J29 -> 349.6398 | K29: ='Tab1.1a'!K29 -> 230.14785 | L29: ='Tab1.1a'!L29 -> 123.43627 | ... U29: ='Tab1.1a'!U29 -> -256.28495 | W29: 37.010234 | X29: 19.686415 | Y29: -66.735459 | Z29: 115.21581 | AA29: -54.729647 | AB29: 4.9692948 | AC29: 147.13755 | AD29: 42.028771 | AE29: 216.21755 | AF29: 116.56065 | AG29: 81.667969 | AH29: -3.7976212 | AI29: 0.64215574 | AJ29: 7.7482604 | AK29: 52.591504 | AL29: 438.39422 | AM29: 89.051932 | AN29: -95.106177 | AO29: -59.102461 | AP29: 466.84301 | AQ29: 5.7305759 | AR29: 32.629607 | AS29: 159.14935 | AT29: 152.13027 | AU29: 13.971054 | AV29: 136.03023 | AW29: -70.742762 | AX29: 150.88932 | AY29: 332.05065 | AZ29: 136.9564 | BA29: -215.26543 | BB29: -130.30536 | BC29: -84.639382 | BD29: -140.58181 | BE29: -69.667773 | BF29: -51.344732 | BG29: -38.93875 | BH29: -45.230313 | BI29: 4.7228102 | BJ29: -26.183596 | BK29: 308.95724 | BL29: -20.710471 | BM29: -195.04855 | BN29: 98.68012 | BO29: 17.180595 | BP29: 111.79671 | BQ29: 14.012889 | BR29: -344.68819 | BS29: -11.625757 | BT29: -22.463037 | BU29: -143.93111 | BV29: -129.40595 | BW29: 22.165538 | BX29: -135.17895 | BY29: -220.95294 | BZ29: 181.19678 | CA29: 69.510991 | CB29: -69.758256 | CC29: -96.590206 | CD29: -278.87251 | CE29: =CE5-CE15 -> -96.498329 | CF29: =CF5-CF15 -> -279.17794 | CG29: =CG5-CG15 -> -208.7475 | CH29: =CH5-CH15 -> 49.180011 | CI29: =CI5-CI15 -> -83.919699 | CJ29: =CJ5-CJ15 -> -175.32112 | CK29: =CK5-CK15 -> -125.65339 | CL29: =CL5-CL15 -> 128.70926 | ... CR29: =CR5-CR15 -> 13.941853
C30: (1-2-2.1.3) | D30: Primary Balance | E30: ='Tab1.1a'!E30 -> 151.04989 | F30: ='Tab1.1a'!F30 -> 170.79455 | G30: ='Tab1.1a'!G30 -> 438.21477 | H30: ='Tab1.1a'!H30 -> 524.02456 | I30: ='Tab1.1a'!I30 -> 522.87177 | J30: ='Tab1.1a'!J30 -> 424.18282 | K30: ='Tab1.1a'!K30 -> 243.56906 | L30: ='Tab1.1a'!L30 -> 134.94173 | ... U30: ='Tab1.1a'!U30 -> -183.43607 | W30: 57.990496 | X30: 25.593717 | Y30: -58.578876 | Z30: 126.04455 | AA30: -49.525354 | AB30: 12.356726 | AC30: 157.23669 | AD30: 50.726488 | AE30: 220.93241 | AF30: 127.90545 | AG30: 85.946629 | AH30: 3.4302789 | AI30: 7.4722314 | AJ30: 14.773566 | AK30: 56.874172 | AL30: 444.90459 | AM30: 93.019384 | AN30: -54.824886 | AO30: -5.2236861 | AP30: 489.90096 | AQ30: 27.274083 | AR30: 58.384492 | AS30: 161.72195 | AT30: 176.80229 | AU30: 16.415439 | AV30: 138.18705 | AW30: -66.244737 | AX30: 155.21131 | AY30: 334.16634 | AZ30: 140.4989 | BA30: -213.23404 | BB30: -126.48946 | BC30: -81.811882 | BD30: -138.99195 | BE30: -66.75663 | BF30: -41.261122 | BG30: -37.441217 | BH30: -42.551975 | BI30: 10.128432 | BJ30: -22.067624 | BK30: 309.99806 | BL30: -15.896872 | BM30: -193.2169 | BN30: 101.45256 | BO30: 23.828545 | BP30: 115.3727 | BQ30: 20.885875 | BR30: -341.52654 | BS30: -4.7398576 | BT30: -19.693037 | BU30: -135.96059 | BV30: -122.30169 | BW30: 29.65267 | BX30: -126.27361 | BY30: -218.64081 | BZ30: 189.04677 | CA30: 80.651236 | CB30: -58.679428 | CC30: -85.485928 | CD30: -268.32766 | CE30: =CE5-CE15+CE19 -> -85.546545 | CF30: =CF5-CF15+CF19 -> -269.11637 | CG30: =CG5-CG15+CG19 -> -195.23083 | CH30: =CH5-CH15+CH19 -> 55.962908 | CI30: =CI5-CI15+CI19 -> -71.921601 | CJ30: =CJ5-CJ15+CJ19 -> -155.65819 | CK30: =CK5-CK15+CK19 -> -106.36361 | CL30: =CL5-CL15+CL19 -> 150.60733 | ... CR30: =CR5-CR15+CR19 -> 43.206342
D34: CBSI classifies Government finance data according to IMF GFSM2014 standards and classifications. As of 2020 to 2023, the changes was due to methodologies while 2023 to date, the changes in the figues were due to improvements in the statistics. This compilation does include Balance of Payment (BOP) grants. All figures are in local currency in millions.
D35: Sources: Ministry of Finance and Treasury (MOFT)

Sheet Tab 1.2b
H2: Government Finance Statistics: Central Government | W2: Government Finance Statistics: Central Government
